BEGIN:VCALENDAR
PRODID:Appointment
CALSCALE:GREGORIAN
VERSION:2.0
BEGIN:VEVENT
DTSTAMP:20260419T160131Z
DTSTART:20260802T120000
DTEND:20260802T180000
SUMMARY:Wir Aktive in Krummhörn/Hinte:  WTL Kinderfest Loppersum
UID:ae786a9f-63b7-4960-9a0a-e7bf41334f03
LOCATION:Loppersum
END:VEVENT
END:VCALENDAR
