BEGIN:VCALENDAR
PRODID:Appointment
CALSCALE:GREGORIAN
VERSION:2.0
BEGIN:VEVENT
DTSTAMP:20260419T160239Z
DTSTART:20260705T100000
DTEND:20260705T170000
SUMMARY:Wir Aktive in Krummhörn/Hinte: Kinderfußballturnier Upleward
UID:b04ba29d-24bc-42ac-afec-a9510eac30c3
LOCATION:Upleward
END:VEVENT
END:VCALENDAR
