BEGIN:VCALENDAR
PRODID:Appointment
CALSCALE:GREGORIAN
VERSION:2.0
BEGIN:VEVENT
DTSTAMP:20260419T160255Z
DTSTART:20260829T150000
DTEND:20260829T180000
SUMMARY:Wir Aktive in Krummhörn/Hinte: Dorffest Jennelt
UID:c16805e9-9952-4f94-99b5-1f1d4fea4603
LOCATION:Jennelt
END:VEVENT
END:VCALENDAR
